BEGIN:VCALENDAR
VERSION:2.0
PRODID:-//RCCG Covenant Sanctuary,UK - ECPv6.15.20//NONSGML v1.0//EN
CALSCALE:GREGORIAN
METHOD:PUBLISH
X-WR-CALNAME:RCCG Covenant Sanctuary,UK
X-ORIGINAL-URL:https://rccgcovenantsanctuaryuk.org
X-WR-CALDESC:Events for RCCG Covenant Sanctuary,UK
REFRESH-INTERVAL;VALUE=DURATION:PT1H
X-Robots-Tag:noindex
X-PUBLISHED-TTL:PT1H
BEGIN:VTIMEZONE
TZID:UTC
BEGIN:STANDARD
TZOFFSETFROM:+0000
TZOFFSETTO:+0000
TZNAME:UTC
DTSTART:20220101T000000
END:STANDARD
END:VTIMEZONE
BEGIN:VEVENT
DTSTART;TZID=UTC:20230303T180000
DTEND;TZID=UTC:20230304T040000
DTSTAMP:20260423T190822
CREATED:20230228T210037Z
LAST-MODIFIED:20230228T210203Z
UID:994-1677866400-1677902400@rccgcovenantsanctuaryuk.org
SUMMARY:RCCG March 2023 Holy Ghost Service
DESCRIPTION:Redeem Christian Church of God Monthly Holy Ghost Service
URL:https://rccgcovenantsanctuaryuk.org/event/rccg-march-2023-holy-ghost-service/
LOCATION:Redemption Camp\, Kl 46\, Lagos - Ibadan Express Way\, Nigeria.\, Ogun State\, Nigeria
CATEGORIES:HolyGhost Service
ATTACH;FMTTYPE=image/jpeg:https://rccgcovenantsanctuaryuk.org/wp-content/uploads/2023/02/PEA2-scaled.jpg
END:VEVENT
END:VCALENDAR